BEGIN:VCALENDAR
PRODID:-//github.com/rianjs/ical.net//NONSGML ical.net 4.0//EN
VERSION:2.0
BEGIN:VEVENT
DESCRIPTION:Kreativa Europa är EU:s program för de kulturella och kreativa
  sektorerna. Detta stöd syftar till att stödja mediepluralism och ge bätt
 re förutsättningar för att öka journalisters säkerhet.
DTEND:20220921T165900
DTSTAMP:20260422T195026Z
DTSTART;VALUE=DATE:20220531
SEQUENCE:0
SUMMARY:Försvara mediefrihet och pluralism
UID:c70be906-789c-4bf7-a5c4-c71577d3035e
URL:https://www.kulturradet.se/sok-bidrag/forsvara-mediefrihet-och-plurali
 sm/
END:VEVENT
END:VCALENDAR
