BEGIN:VCALENDAR
PRODID:-//github.com/rianjs/ical.net//NONSGML ical.net 4.0//EN
VERSION:2.0
BEGIN:VEVENT
DESCRIPTION:Det här bidraget finns till för att stödja yrkesverksamma aktö
 rer inom scenkonstområdet\, så att de kan nå publik i hela landet med för
 eställningar av hög kvalitet.
DTEND:20260505T235900
DTSTAMP:20260422T124202Z
DTSTART;VALUE=DATE:20260407
SEQUENCE:0
SUMMARY:Fri scenkonst verksamhetsbidrag
UID:b2a9ebdf-f6cb-40b3-9a46-d494953418c3
URL:https://www.kulturradet.se/sok-bidrag/fri-scenkonst--verksamhetsbidrag/
END:VEVENT
END:VCALENDAR
